BEGIN:VCALENDAR
VERSION:2.0
PRODID:-//UNA - ECPv6.15.18//NONSGML v1.0//EN
CALSCALE:GREGORIAN
METHOD:PUBLISH
X-ORIGINAL-URL:https://unacom.it
X-WR-CALDESC:Eventi per UNA
REFRESH-INTERVAL;VALUE=DURATION:PT1H
X-Robots-Tag:noindex
X-PUBLISHED-TTL:PT1H
BEGIN:VTIMEZONE
TZID:Europe/Rome
BEGIN:DAYLIGHT
TZOFFSETFROM:+0100
TZOFFSETTO:+0200
TZNAME:CEST
DTSTART:20250330T010000
END:DAYLIGHT
BEGIN:STANDARD
TZOFFSETFROM:+0200
TZOFFSETTO:+0100
TZNAME:CET
DTSTART:20251026T010000
END:STANDARD
BEGIN:DAYLIGHT
TZOFFSETFROM:+0100
TZOFFSETTO:+0200
TZNAME:CEST
DTSTART:20260329T010000
END:DAYLIGHT
BEGIN:STANDARD
TZOFFSETFROM:+0200
TZOFFSETTO:+0100
TZNAME:CET
DTSTART:20261025T010000
END:STANDARD
BEGIN:DAYLIGHT
TZOFFSETFROM:+0100
TZOFFSETTO:+0200
TZNAME:CEST
DTSTART:20270328T010000
END:DAYLIGHT
BEGIN:STANDARD
TZOFFSETFROM:+0200
TZOFFSETTO:+0100
TZNAME:CET
DTSTART:20271031T010000
END:STANDARD
END:VTIMEZONE
BEGIN:VEVENT
DTSTART;TZID=Europe/Rome:20260331T143000
DTEND;TZID=Europe/Rome:20260331T190000
DTSTAMP:20260420T161228
CREATED:20260313T081647Z
LAST-MODIFIED:20260313T081649Z
UID:10000155-1774967400-1774983600@unacom.it
SUMMARY:Evento Compendium | Retail Reloaded. Persone\, dati e finanza. Strategie integrate per mercati complessi
DESCRIPTION:Compendium SpA\, in sinergia con Banca Sella e Confimprese\, riunisce a Milano i principali decision maker del settore retail per confrontarsi sulle nuove strategie di sviluppo del mercato. \n\n\n\nTra i relatori Davide Arduini\, Presidente di UNA\, che interviene nel Panel 1 “Finanza\, Brand e Mercato”\, dedicato ai temi del consolidamento del retail\, al ruolo dei brand e dei centri commerciali come asset di valore e al contributo del sistema bancario nel sostenere crescita\, operazioni di M&A e innovazione nei sistemi di pagamento. \n\n\n\nL’evento è riservato\, accredito previa convalida
URL:https://unacom.it/calendario-evento/evento-compendium-retail-reloaded-persone-dati-e-finanza-strategie-integrate-per-mercati-complessi/
LOCATION:Auditorium San Fedele di Milano\, Via Ulrico Hoepli\, 3/b\, Milano\, 20121\, Italy
ATTACH;FMTTYPE=image/png:https://unacom.it/wp-content/uploads/2026/03/Retail-Reloaded.png
END:VEVENT
END:VCALENDAR