BEGIN:VCALENDAR
VERSION:2.0
PRODID:-//UNA - ECPv6.15.18//NONSGML v1.0//EN
CALSCALE:GREGORIAN
METHOD:PUBLISH
X-ORIGINAL-URL:https://unacom.it
X-WR-CALDESC:Eventi per UNA
REFRESH-INTERVAL;VALUE=DURATION:PT1H
X-Robots-Tag:noindex
X-PUBLISHED-TTL:PT1H
BEGIN:VTIMEZONE
TZID:Europe/Rome
BEGIN:DAYLIGHT
TZOFFSETFROM:+0100
TZOFFSETTO:+0200
TZNAME:CEST
DTSTART:20250330T010000
END:DAYLIGHT
BEGIN:STANDARD
TZOFFSETFROM:+0200
TZOFFSETTO:+0100
TZNAME:CET
DTSTART:20251026T010000
END:STANDARD
BEGIN:DAYLIGHT
TZOFFSETFROM:+0100
TZOFFSETTO:+0200
TZNAME:CEST
DTSTART:20260329T010000
END:DAYLIGHT
BEGIN:STANDARD
TZOFFSETFROM:+0200
TZOFFSETTO:+0100
TZNAME:CET
DTSTART:20261025T010000
END:STANDARD
BEGIN:DAYLIGHT
TZOFFSETFROM:+0100
TZOFFSETTO:+0200
TZNAME:CEST
DTSTART:20270328T010000
END:DAYLIGHT
BEGIN:STANDARD
TZOFFSETFROM:+0200
TZOFFSETTO:+0100
TZNAME:CET
DTSTART:20271031T010000
END:STANDARD
END:VTIMEZONE
BEGIN:VEVENT
DTSTART;TZID=Europe/Rome:20260305T183000
DTEND;TZID=Europe/Rome:20260305T193000
DTSTAMP:20260421T103507
CREATED:20260217T133821Z
LAST-MODIFIED:20260217T133831Z
UID:10000142-1772735400-1772739000@unacom.it
SUMMARY:Territoriale Campania UNA | The Agency Room
DESCRIPTION:Giovedì 5 marzo alle ore 18.30\, presso l’Aula magna dell’Accademia IUAD di Napoli\, si terrà l’appuntamento di The Agency Room\, organizzato dalla Territoriale Campania di UNA. \n\n\n\n“The Evolution of Agencies. From Execution to Strategic Value” sarà un momento di confronto su come le agenzie stiano trasformando il proprio ruolo\, passando da semplici esecutori a partner strategici capaci di generare valore per i brand. \n\n\n\nOspite della serata Antonio Giglio\, Fractional General Manager\, che offrirà una visione concreta sui modelli organizzativi\, le competenze e le sfide che stanno ridefinendo il settore. \n\n\n\nUn’occasione di ispirazione e networking per professionisti\, studenti e imprese del territorio.
URL:https://unacom.it/calendario-evento/territoriale-campania-una-the-agency-room/
LOCATION:Aula magna dell’Accademia IUAD\, Corso Arnaldo Lucci 104\, Napoli\, Italy
ATTACH;FMTTYPE=image/png:https://unacom.it/wp-content/uploads/2026/02/territoriale-campania-scaled.png
END:VEVENT
END:VCALENDAR