BEGIN:VCALENDAR
VERSION:2.0
PRODID:-//UNA - ECPv6.15.18//NONSGML v1.0//EN
CALSCALE:GREGORIAN
METHOD:PUBLISH
X-ORIGINAL-URL:https://unacom.it
X-WR-CALDESC:Eventi per UNA
REFRESH-INTERVAL;VALUE=DURATION:PT1H
X-Robots-Tag:noindex
X-PUBLISHED-TTL:PT1H
BEGIN:VTIMEZONE
TZID:Europe/Rome
BEGIN:DAYLIGHT
TZOFFSETFROM:+0100
TZOFFSETTO:+0200
TZNAME:CEST
DTSTART:20230326T010000
END:DAYLIGHT
BEGIN:STANDARD
TZOFFSETFROM:+0200
TZOFFSETTO:+0100
TZNAME:CET
DTSTART:20231029T010000
END:STANDARD
BEGIN:DAYLIGHT
TZOFFSETFROM:+0100
TZOFFSETTO:+0200
TZNAME:CEST
DTSTART:20240331T010000
END:DAYLIGHT
BEGIN:STANDARD
TZOFFSETFROM:+0200
TZOFFSETTO:+0100
TZNAME:CET
DTSTART:20241027T010000
END:STANDARD
BEGIN:DAYLIGHT
TZOFFSETFROM:+0100
TZOFFSETTO:+0200
TZNAME:CEST
DTSTART:20250330T010000
END:DAYLIGHT
BEGIN:STANDARD
TZOFFSETFROM:+0200
TZOFFSETTO:+0100
TZNAME:CET
DTSTART:20251026T010000
END:STANDARD
END:VTIMEZONE
BEGIN:VEVENT
DTSTART;TZID=Europe/Rome:20240612T163000
DTEND;TZID=Europe/Rome:20240612T190000
DTSTAMP:20260423T135743
CREATED:20240529T120819Z
LAST-MODIFIED:20240529T120820Z
UID:10000055-1718209800-1718218800@unacom.it
SUMMARY:Incontro Effie Club: Il Report Nielsen sull'efficacia.  Che conclusioni possiamo trarne?
DESCRIPTION:Continuano le giornate Effie Club dedicate all’efficacia.Sarà un’occasione imperdibile per tutti coloro che lavorano sulla strategia.Evento gratuito previa registrazione\, fino ad esaurimento posti\, su: link
URL:https://unacom.it/calendario-evento/incontro-effie-club-il-report-nielsen-sullefficacia-che-conclusioni-possiamo-trarne/
LOCATION:Campus WPP\, Via Morimondo\, 26\, Milano MI\, Milano\, Milano\, 20143\, Italia
ATTACH;FMTTYPE=image/png:https://unacom.it/wp-content/uploads/2024/05/Effie-Club.png
END:VEVENT
END:VCALENDAR