BEGIN:VCALENDAR
VERSION:2.0
PRODID:-//UNA - ECPv6.15.18//NONSGML v1.0//EN
CALSCALE:GREGORIAN
METHOD:PUBLISH
X-WR-CALNAME:UNA
X-ORIGINAL-URL:https://unacom.it
X-WR-CALDESC:Eventi per UNA
REFRESH-INTERVAL;VALUE=DURATION:PT1H
X-Robots-Tag:noindex
X-PUBLISHED-TTL:PT1H
BEGIN:VTIMEZONE
TZID:Europe/Rome
BEGIN:DAYLIGHT
TZOFFSETFROM:+0100
TZOFFSETTO:+0200
TZNAME:CEST
DTSTART:20240331T010000
END:DAYLIGHT
BEGIN:STANDARD
TZOFFSETFROM:+0200
TZOFFSETTO:+0100
TZNAME:CET
DTSTART:20241027T010000
END:STANDARD
BEGIN:DAYLIGHT
TZOFFSETFROM:+0100
TZOFFSETTO:+0200
TZNAME:CEST
DTSTART:20250330T010000
END:DAYLIGHT
BEGIN:STANDARD
TZOFFSETFROM:+0200
TZOFFSETTO:+0100
TZNAME:CET
DTSTART:20251026T010000
END:STANDARD
BEGIN:DAYLIGHT
TZOFFSETFROM:+0100
TZOFFSETTO:+0200
TZNAME:CEST
DTSTART:20260329T010000
END:DAYLIGHT
BEGIN:STANDARD
TZOFFSETFROM:+0200
TZOFFSETTO:+0100
TZNAME:CET
DTSTART:20261025T010000
END:STANDARD
BEGIN:DAYLIGHT
TZOFFSETFROM:+0100
TZOFFSETTO:+0200
TZNAME:CEST
DTSTART:20270328T010000
END:DAYLIGHT
BEGIN:STANDARD
TZOFFSETFROM:+0200
TZOFFSETTO:+0100
TZNAME:CET
DTSTART:20271031T010000
END:STANDARD
END:VTIMEZONE
BEGIN:VEVENT
DTSTART;TZID=Europe/Rome:20260326T173000
DTEND;TZID=Europe/Rome:20260326T193000
DTSTAMP:20260420T213753
CREATED:20260218T161608Z
LAST-MODIFIED:20260323T155204Z
UID:10000146-1774546200-1774553400@unacom.it
SUMMARY:Territoriale Triveneto e Branding Hub di UNA  | Conversazioni Collaborative “Cultura\, umanità e creatività come asset competitivi per costruire valore e relazioni significative”
DESCRIPTION:Territoriale Triveneto e Branding Hub di UNA promuovono il terzo appuntamento de Le Conversazioni Collaborative\, il progetto di dialogo e confronto dedicato al valore strategico della marca. Dopo il positivo riscontro degli incontri di Milano e Torino\, il nuovo appuntamento prosegue il percorso avviato affrontando il tema del Valore come leva competitiva per marketer\, aziende\, brand e agenzie. Cultura\, umanità e creatività diventano così asset centrali per costruire relazioni significative e generare impatto nel tempo. \n\n\n\nNon sarà solo un evento\, ma uno spazio di confronto aperto\, concreto e collaborativo. \n\n\n\nPerché oggi più che mai il branding richiede autenticità\, ascolto e visione condivisa\, temi emersi con forza anche nel whitepaper del primo incontro. \n\n\n\nIntroduce Federico Frasson – Referente Una Area TrivenetoLuca Cavallini – Responsabile Branding Hub UNA \n\n\n\nModera Matteo Lusiani – Brand consultant e autore del libro ” Il Brand raccontato” \n\n\n\nInterveranno• Luca Casaura Responsabile Marketing di Bauli SpA;• Cristian Voltolini Global Head of Marketing Communication Dr. Schär SpA;• Michele Mariani Executive Creative Director Armando Testa Group;• Andrea Altinier Docente di Comunicazione presso IUSVE e Responsabile Comunicazione presso Irinox SpA;• Mattia Mialich Chief of AI & Digital Marketing Mavive SpA;• Davide Ceccarelli Founder & CEO Technowrapp;• Marta De Vivo Giornalista e Consulente di Comunicazione. \n\n\n\nPer registrarsi gratuitamente. qui
URL:https://unacom.it/calendario-evento/una-branding-hub-e-territoriale-triveneto-conversazioni-collaborative-il-valore-cultura-umanita-e-creativita-come-asset-competitivi/
LOCATION:Infinite Area\, Via S. Gaetano\, 113/A\, 31044\, Montebelluna TV\, 31044\, Italy
ATTACH;FMTTYPE=image/jpeg:https://unacom.it/wp-content/uploads/2026/02/Territoriale-Triveneto-scaled.jpg
END:VEVENT
BEGIN:VEVENT
DTSTART;TZID=Europe/Rome:20251113T173000
DTEND;TZID=Europe/Rome:20251113T190000
DTSTAMP:20260420T213753
CREATED:20251124T135044Z
LAST-MODIFIED:20251124T135050Z
UID:10000127-1763055000-1763060400@unacom.it
SUMMARY:Incontro Territoriale Triveneto. Marketing senza scorciatorie.
DESCRIPTION:MARKETING SENZA SCORCIATOIEDalla qualità dell’attenzione all’efficacia: human to human nell’era del programmatic.Territoriale Triveneto\, in collaborazione con Quantcast vi invita a un incontro dedicato all’evoluzione del marketing e delle relazioni umane nella comunicazione contemporanea.Interverranno:📌 Fabio Ancarani – Professore ordinario di Marketing\, Università di Bologna.📌 Francesca Checchinato – Professoressa di Marketing\, Università Ca’ Foscari Venezia📌 Filippo Loverre – QuantcastUn appuntamento per chi crede che il marketing non sia una scorciatoia\, ma un percorso fatto di attenzione\, conoscenza e relazione.
URL:https://unacom.it/calendario-evento/incontro-territoriale-triveneto-marketing-senza-scorciatorie/
LOCATION:Infinite Area\, Via S. Gaetano\, 113/A\, 31044\, Montebelluna TV\, 31044\, Italy
ATTACH;FMTTYPE=image/jpeg:https://unacom.it/wp-content/uploads/2025/11/Marketing-senza-scorciatoie.jpg
END:VEVENT
END:VCALENDAR