BEGIN:VCALENDAR
VERSION:2.0
PRODID:-//UNA - ECPv6.15.18//NONSGML v1.0//EN
CALSCALE:GREGORIAN
METHOD:PUBLISH
X-ORIGINAL-URL:https://unacom.it
X-WR-CALDESC:Eventi per UNA
REFRESH-INTERVAL;VALUE=DURATION:PT1H
X-Robots-Tag:noindex
X-PUBLISHED-TTL:PT1H
BEGIN:VTIMEZONE
TZID:Europe/Rome
BEGIN:DAYLIGHT
TZOFFSETFROM:+0100
TZOFFSETTO:+0200
TZNAME:CEST
DTSTART:20230326T010000
END:DAYLIGHT
BEGIN:STANDARD
TZOFFSETFROM:+0200
TZOFFSETTO:+0100
TZNAME:CET
DTSTART:20231029T010000
END:STANDARD
BEGIN:DAYLIGHT
TZOFFSETFROM:+0100
TZOFFSETTO:+0200
TZNAME:CEST
DTSTART:20240331T010000
END:DAYLIGHT
BEGIN:STANDARD
TZOFFSETFROM:+0200
TZOFFSETTO:+0100
TZNAME:CET
DTSTART:20241027T010000
END:STANDARD
BEGIN:DAYLIGHT
TZOFFSETFROM:+0100
TZOFFSETTO:+0200
TZNAME:CEST
DTSTART:20250330T010000
END:DAYLIGHT
BEGIN:STANDARD
TZOFFSETFROM:+0200
TZOFFSETTO:+0100
TZNAME:CET
DTSTART:20251026T010000
END:STANDARD
END:VTIMEZONE
BEGIN:VEVENT
DTSTART;TZID=Europe/Rome:20240522T170000
DTEND;TZID=Europe/Rome:20240522T180000
DTSTAMP:20260423T121700
CREATED:20240513T141303Z
LAST-MODIFIED:20240513T141305Z
UID:10000051-1716397200-1716400800@unacom.it
SUMMARY:Presentazione del libro: Crisi reputazionali ai tempi dell'infosfera di Daniele Chieffi
DESCRIPTION:Grazie alla Territoriale Piemonte e Valle d’Aosta\, UNA ha concesso il patrocinio alla tavola rotonda organizzata da FERPI e OCIP in occasione della pubblicazione del libro “Crisi reputazionali ai tempi dell’Infosfera” di Daniele Chieffi\, edito da Franco Angeli. \n\n\n\nLa reputazione è un bene sempre più delicato e prezioso. Daniele Chieffi\, caso Eni vs Report\, ci illustrerà regole d’oro per gestire le crisi. Interverranno tra l’altro Serena Fasano\, Delegata Piemonte UNA e Michele Cornetto\, Consigliere UNA  \n\n\n\nL’ingresso è gratuito\, previa iscrizione online\, fino ad esaurimento posti
URL:https://unacom.it/calendario-evento/presentazione-del-libro-crisi-reputazionali-ai-tempi-dellinfosfera-di-daniele-chieffi/
LOCATION:IUSTO – Istituto Universitario Salesiano Torino\, Piazza Conti di Rebaudengo\, 22\, Torino\, 10155\, Italia
ATTACH;FMTTYPE=image/jpeg:https://unacom.it/wp-content/uploads/2024/05/Crisi-reputazionali-ai-tempi-dellinfosfera-_-Daniele-Chieffi.jpg
END:VEVENT
END:VCALENDAR