BEGIN:VCALENDAR
VERSION:2.0
PRODID:-//UNA - ECPv6.15.18//NONSGML v1.0//EN
CALSCALE:GREGORIAN
METHOD:PUBLISH
X-WR-CALNAME:UNA
X-ORIGINAL-URL:https://unacom.it
X-WR-CALDESC:Eventi per UNA
REFRESH-INTERVAL;VALUE=DURATION:PT1H
X-Robots-Tag:noindex
X-PUBLISHED-TTL:PT1H
BEGIN:VTIMEZONE
TZID:Europe/Rome
BEGIN:DAYLIGHT
TZOFFSETFROM:+0100
TZOFFSETTO:+0200
TZNAME:CEST
DTSTART:20250330T010000
END:DAYLIGHT
BEGIN:STANDARD
TZOFFSETFROM:+0200
TZOFFSETTO:+0100
TZNAME:CET
DTSTART:20251026T010000
END:STANDARD
BEGIN:DAYLIGHT
TZOFFSETFROM:+0100
TZOFFSETTO:+0200
TZNAME:CEST
DTSTART:20260329T010000
END:DAYLIGHT
BEGIN:STANDARD
TZOFFSETFROM:+0200
TZOFFSETTO:+0100
TZNAME:CET
DTSTART:20261025T010000
END:STANDARD
BEGIN:DAYLIGHT
TZOFFSETFROM:+0100
TZOFFSETTO:+0200
TZNAME:CEST
DTSTART:20270328T010000
END:DAYLIGHT
BEGIN:STANDARD
TZOFFSETFROM:+0200
TZOFFSETTO:+0100
TZNAME:CET
DTSTART:20271031T010000
END:STANDARD
END:VTIMEZONE
BEGIN:VEVENT
DTSTART;TZID=Europe/Rome:20260416T160000
DTEND;TZID=Europe/Rome:20260416T220000
DTSTAMP:20260420T174502
CREATED:20251218T103551Z
LAST-MODIFIED:20260414T100831Z
UID:10000130-1776355200-1776376800@unacom.it
SUMMARY:Premiazione The PRize – Il Premio Italiano delle Relazioni Pubbliche
DESCRIPTION:La V edizione di The PRize\, il premio promosso da UNA e dal PR Hub\, celebra l’eccellenza\, l’innovazione e la responsabilità nel mondo delle Relazioni Pubbliche e della comunicazione. \n\n\n\nNel corso della serata verranno annunciati i vincitori delle diverse categorie\, insieme all’assegnazione del Premio alla Carriera a Rosy Russo\, fondatrice di Parole O_Stili e ideatrice del Manifesto della comunicazione non ostile\, per il suo straordinario contributo alla promozione di una comunicazione etica\, inclusiva e responsabile. Un riconoscimento che celebra un percorso capace di trasformare le parole in strumenti di costruzione di relazioni e comunità\, ponendo al centro il valore del linguaggio in un contesto sempre più complesso e interconnesso. \n\n\n\nDurante la giornata saranno inoltre presentati in anteprima progetti come “Dalla reputazione ai risultati: 100 KPI’s per misurare ciò che conta davvero” e “Parole al Limite”\, insieme a momenti di confronto come la tavola rotonda “Nuove voci\, nuove visioni. Leadership e talenti che ridisegnano la comunicazione”\, promossa da GWPR. Un programma che affianca contenuti di approfondimento a occasioni di networking\, favorendo lo scambio tra professionisti e il dialogo su temi chiave per il futuro della comunicazione. \n\n\n\nUn appuntamento che unisce celebrazione e riflessione\, offrendo uno spazio di ispirazione per tutta la filiera della comunicazione.
URL:https://unacom.it/calendario-evento/premiazione-the-prize-il-premio-italiano-delle-relazioni-pubbliche-3/
LOCATION:Auditorium Ara Pacis\, Lungotevere Augusta 52\, Roma\, 00186
ATTACH;FMTTYPE=image/jpeg:https://unacom.it/wp-content/uploads/2025/02/The-PRize_logo-002-scaled.jpg
END:VEVENT
END:VCALENDAR